BEGIN:VCALENDAR
VERSION:2.0
PRODID:-//Jane Sibbett - ECPv6.15.20//NONSGML v1.0//EN
CALSCALE:GREGORIAN
METHOD:PUBLISH
X-ORIGINAL-URL:https://janesibbett.com
X-WR-CALDESC:Events for Jane Sibbett
REFRESH-INTERVAL;VALUE=DURATION:PT1H
X-Robots-Tag:noindex
X-PUBLISHED-TTL:PT1H
BEGIN:VTIMEZONE
TZID:America/Los_Angeles
BEGIN:DAYLIGHT
TZOFFSETFROM:-0800
TZOFFSETTO:-0700
TZNAME:PDT
DTSTART:20250309T100000
END:DAYLIGHT
BEGIN:STANDARD
TZOFFSETFROM:-0700
TZOFFSETTO:-0800
TZNAME:PST
DTSTART:20251102T090000
END:STANDARD
BEGIN:DAYLIGHT
TZOFFSETFROM:-0800
TZOFFSETTO:-0700
TZNAME:PDT
DTSTART:20260308T100000
END:DAYLIGHT
BEGIN:STANDARD
TZOFFSETFROM:-0700
TZOFFSETTO:-0800
TZNAME:PST
DTSTART:20261101T090000
END:STANDARD
BEGIN:DAYLIGHT
TZOFFSETFROM:-0800
TZOFFSETTO:-0700
TZNAME:PDT
DTSTART:20270314T100000
END:DAYLIGHT
BEGIN:STANDARD
TZOFFSETFROM:-0700
TZOFFSETTO:-0800
TZNAME:PST
DTSTART:20271107T090000
END:STANDARD
END:VTIMEZONE
BEGIN:VEVENT
DTSTART;TZID=America/Los_Angeles:20260429T173000
DTEND;TZID=America/Los_Angeles:20260501T173000
DTSTAMP:20260419T223440
CREATED:20260326T160704Z
LAST-MODIFIED:20260326T160704Z
UID:10000379-1777483800-1777656600@janesibbett.com
SUMMARY:Expanded Quanta Circle - May Rising 2026
DESCRIPTION:3 consecutive days in one wave of Joyfully Activating Nurturing Energy\nWednesday\, April 29th at 5:30pm PT\nThursday\, April 30th at 5:30pm PT\nFriday\, May 1st at 5:30pm PT \nHealing + Love + Light + Peace \nJANE’s Dancing Hands Expanded Quanta Circle – is an online version of Jane’s Quanta Circle. This format invites the same depth of work with the purest Source Energy in a transformational three-day arc of love\, light\, and abundant joy but within a more intimate group of between five and 14 people. \nCollaborator participants co-create the Expanded Quanta Circle with both written and spoken intentions and commit to upholding safe and sacred space for one another. This supportive community becomes its own vessel of purest Source Energy as a solid and fluid foundation of kindred hearts is established — growing the work not only of private experiences with Source Energy but carrying the light of self-healing and communal light-bearing forward and expanding potential together. \nThis is an exciting outgrowth for those who have loved their circle work and private sessions with Jane and wish to work not just even more intimately with the Dancing Hands/purest Source Energy experience but also potentially find supportive friends on the path of a more happily experienced conscious life. \nEach Quanta Circle includes: \nCheck-in – How are you mentally\, emotionally\, physically\, and spiritually? And then\, on a scale of 1 – 10\, with 10 being perfect\, happy\, whole\, healthy\, how do you feel? Each participant shares succinctly and honestly but can work privately or quietly\, too. All write down “where they are.” \nFocus – Much like an intention for the circle\, this could also be a yes to Source activating this and a more “positive\, beautiful and beneficial outcome beyond our imagining\,” allowing room for our hearts to open to Source knowing best. \nDance – The dance segment is 25 – 45 min.\, Source chosen\, but the supportive Source energy runs from the beginning of the session until the circle is complete (and onward) for each and all collectively. \nDiscussion/Wrap up/Post Check-In —\nRevelations\, experiences\, sensations\, where one is now on the 1 – 10 scale\, takeaways.\nWriting each day post circle to bring light to the shifts\, revelations\, questions\, and comments. \nTo find out more about what this gift of JANE’s Dancing Hands entails\, check out the links below:\njanesibbett.com\nhttps://www.youtube.com/watch?v=TjA7kzHH3Cw\nhttps://www.youtube.com/watch?v=vSAHoGALJ70 \nWHAT SOME PARTICIPANTS FROM OUR MOST RECENT INFINITE QUANTA CIRCLE HAVE SHARED:\n“OH\, HOW I APPRECIATE YOU ALL! I felt the energy so deeply today\, and even stood up and danced\, then laid on the floor\, which seemed to release even more. LOVE! My ‘spot’ is clearing\, and my upper abdomen pain is gone from the ‘surgeries’ these past 2 days! Just had to send a Celebration Text – Soooo grateful!”\n– T. Thomas \n“This was my first experience. The energy was so intense\, I felt bathed in Light and Love. I couldn’t keep my eyes open. Thank you so much.”\n– A.C. \n“I was completely relaxed. I have been stressed and agitated and a little angry. It was so beautiful to just… be. Tingles and deep breaths and calm. I needed that.”\n– N.P. \n“I feel peace. Thank you for this amazing Source transmission\, it’s beyond words. I felt the sacredness so deeply. Thank you\, thank you\, thank you\, and blessing on everyone.”\n– M.J. \n“I completely felt close to something ancient. I felt held. I felt like when you were saying “It’s okay” over and over. It was for me. Thank you.”\n– M.C
URL:https://janesibbett.com/event/may-rising-quanta-2026/
LOCATION:Zoom
CATEGORIES:JDH Circles,Quanta Circles
ATTACH;FMTTYPE=image/jpeg:https://janesibbett.com/wp-content/uploads/2026/03/JANE-May-Rising-Expanded-Quanta-Circle-2026-poster.jpg
ORGANIZER;CN="Jane Sibbett":MAILTO:hello@janesibbett.com
END:VEVENT
END:VCALENDAR